BEGIN:VCALENDAR
VERSION:2.0
PRODID:-//Bed-Down - ECPv6.15.20//NONSGML v1.0//EN
CALSCALE:GREGORIAN
METHOD:PUBLISH
X-ORIGINAL-URL:https://www.bed-down.co.uk
X-WR-CALDESC:Events for Bed-Down
REFRESH-INTERVAL;VALUE=DURATION:PT1H
X-Robots-Tag:noindex
X-PUBLISHED-TTL:PT1H
BEGIN:VTIMEZONE
TZID:Europe/London
BEGIN:DAYLIGHT
TZOFFSETFROM:+0000
TZOFFSETTO:+0100
TZNAME:BST
DTSTART:20220327T010000
END:DAYLIGHT
BEGIN:STANDARD
TZOFFSETFROM:+0100
TZOFFSETTO:+0000
TZNAME:GMT
DTSTART:20221030T010000
END:STANDARD
BEGIN:DAYLIGHT
TZOFFSETFROM:+0000
TZOFFSETTO:+0100
TZNAME:BST
DTSTART:20230326T010000
END:DAYLIGHT
BEGIN:STANDARD
TZOFFSETFROM:+0100
TZOFFSETTO:+0000
TZNAME:GMT
DTSTART:20231029T010000
END:STANDARD
BEGIN:DAYLIGHT
TZOFFSETFROM:+0000
TZOFFSETTO:+0100
TZNAME:BST
DTSTART:20240331T010000
END:DAYLIGHT
BEGIN:STANDARD
TZOFFSETFROM:+0100
TZOFFSETTO:+0000
TZNAME:GMT
DTSTART:20241027T010000
END:STANDARD
BEGIN:DAYLIGHT
TZOFFSETFROM:+0000
TZOFFSETTO:+0100
TZNAME:BST
DTSTART:20250330T010000
END:DAYLIGHT
BEGIN:STANDARD
TZOFFSETFROM:+0100
TZOFFSETTO:+0000
TZNAME:GMT
DTSTART:20251026T010000
END:STANDARD
END:VTIMEZONE
BEGIN:VEVENT
DTSTART;VALUE=DATE:20241218
DTEND;VALUE=DATE:20241223
DTSTAMP:20260424T142547
CREATED:20240728T105808Z
LAST-MODIFIED:20240728T105938Z
UID:6290-1734480000-1734911999@www.bed-down.co.uk
SUMMARY:London International Horse Show\, 18th – 22nd December
DESCRIPTION:Experience the excitement of The London International Horse Show from December 18th to 22nd at ExCeL London! \nThis event promises an exhilarating blend of equestrian competitions and family fun. Attendees will be treated to world-class show jumping\, dressage\, and driving competitions\, including the prestigious FEI Dressage World Cup™ and dynamic events like The London Grand Prix and The Mini Major. \nAdditionally\, the show features the charming Shetland Pony Grand National and the highly anticipated Kennel Club Dog Agility displays. With such a diverse lineup\, there’s something for everyone to enjoy!
URL:https://www.bed-down.co.uk/event/london-international-horse-show-18th-22nd-december/
LOCATION:ExCeL\, London\, E16 1X\, United Kingdom
CATEGORIES:Equestrian Events
ATTACH;FMTTYPE=image/jpeg:https://www.bed-down.co.uk/wp-content/uploads/2024/07/London-International-Horse-Show.jpg
END:VEVENT
BEGIN:VEVENT
DTSTART;VALUE=DATE:20240919
DTEND;VALUE=DATE:20240923
DTSTAMP:20260424T142547
CREATED:20240728T104854Z
LAST-MODIFIED:20240728T104916Z
UID:6286-1726704000-1727049599@www.bed-down.co.uk
SUMMARY:Blenheim Palace International Horse Trials\, 19th – 22nd September
DESCRIPTION:Join Bed-Down at the Blenheim Palace International Horse Trials from September 19th to 22nd\, 2024! \nWe are thrilled to announce that Bed-Down will be exhibiting at this prestigious event\, renowned for its exhilarating equestrian action and breathtaking setting at the historic Blenheim Palace. Over four exciting days\, attendees will have the opportunity to witness top-tier horse trials\, featuring some of the best riders and horses from around the world. \nThe event promises a perfect blend of thrilling competition and elegant surroundings\, making it an unmissable experience for equestrian enthusiasts and spectators alike. We invite you to visit our exhibit\, where you can learn more about our products and services\, and enjoy the vibrant atmosphere of the Blenheim Palace International Horse Trials. \nWe look forward to seeing you there!
URL:https://www.bed-down.co.uk/event/blenheim-palace-international-horse-trials-19th-22nd-september/
LOCATION:Blenheim Palace\, Blenheim Palace\, Woodstock\, Oxfordshire\, OX20 1PS\, United Kingdom
CATEGORIES:Equestrian Events
ATTACH;FMTTYPE=image/jpeg:https://www.bed-down.co.uk/wp-content/uploads/2024/07/Blenheim-Palace-International-Horse-Trials.jpg
ORGANIZER;CN="Blenheim Palace":MAILTO:info@bpiht.co.uk
END:VEVENT
BEGIN:VEVENT
DTSTART;VALUE=DATE:20240819
DTEND;VALUE=DATE:20240825
DTSTAMP:20260424T142547
CREATED:20240429T153035Z
LAST-MODIFIED:20240429T153035Z
UID:6159-1724025600-1724543999@www.bed-down.co.uk
SUMMARY:Sheepgate U25s Dressage Championships\, 19th-24th August
DESCRIPTION:Bed-Down eagerly anticipates attending the Sheepgate Equestrian Centre U25 Dressage Championships in Boston\, Lincolnshire\, from the 19th to the 24th of August. This six-day dressage extravaganza showcases all levels of dressage\, from Preliminary to FEI\, specifically for under-25-year-olds. \nPrepare yourself for a thrilling experience at Sheepgate\, featuring captivating competitions like the team and individual championships. To take part in these events\, riders must be selected by their region and compete at the preliminary to medium level or higher. \nThe U25 Championships welcome combinations up to 25 years old\, promising an event brimming with talent and excitement.
URL:https://www.bed-down.co.uk/event/sheepgate-u25s-dressage-championships-19th-24th-august/
LOCATION:Sheepgate Equestrian\, Sheepgate\, Leverton\, Boston\, Lincolnshire\, PE22 0AS\, United Kingdom
CATEGORIES:Equestrian Events
ATTACH;FMTTYPE=image/jpeg:https://www.bed-down.co.uk/wp-content/uploads/2024/04/Sheepgate-U25s-Dressage-Championships.jpg
END:VEVENT
BEGIN:VEVENT
DTSTART;VALUE=DATE:20240723
DTEND;VALUE=DATE:20240729
DTSTAMP:20260424T142547
CREATED:20240429T152406Z
LAST-MODIFIED:20240429T152406Z
UID:6155-1721692800-1722211199@www.bed-down.co.uk
SUMMARY:Agria International Horse Show\, 23rd-28th July
DESCRIPTION:Come join Bed-Down Equine Bedding at this year’s Agria Royal International Horse Show in Hickstead! It’s a must-attend event is the equestrian calendar this year. \nBe part of the crowd at the All England Jumping Course to catch thrilling international spectacles like the King George V Gold Cup and the Breen Equestrian Queen Elizabeth II Cup. \nThe Royal International Horse Show stands out as a pinnacle of the outdoor showing season. Riders travel from all across the UK in pursuit of a qualifying ticket\, eager for a shot at competing in this prestigious event. Six action-packed days culminate in the thrilling Barberstown Castle Supreme Horse and Supreme Products Supreme Pony Championships on Sunday.
URL:https://www.bed-down.co.uk/event/agria-international-horse-show-23rd-28th-july/
LOCATION:Hickstead\, Hickstead\, Showground\, Hickstead\, West Sussex\, BN6 9NS\, United Kingdom
CATEGORIES:Equestrian Events
ATTACH;FMTTYPE=image/jpeg:https://www.bed-down.co.uk/wp-content/uploads/2024/04/Agria-International-Horse-Show.jpg
END:VEVENT
BEGIN:VEVENT
DTSTART;VALUE=DATE:20240501
DTEND;VALUE=DATE:20240506
DTSTAMP:20260424T142547
CREATED:20240424T111138Z
LAST-MODIFIED:20240424T111138Z
UID:6136-1714521600-1714953599@www.bed-down.co.uk
SUMMARY:Royal Windsor Horse Show\, 1st - 5th May
DESCRIPTION:Join us at the prestigious Royal Windsor Horse Show\, a pinnacle of equestrian excellence nestled in the picturesque Windsor Home Park. From May 1st to 5th\, immerse yourself in five remarkable days celebrating the finest equine talent the UK has to offer. We are thrilled to announce that Bed-Down will be showcasing at stand A144. \nAs the exclusive venue for international competitions spanning dressage\, show jumping\, carriage driving\, and endurance riding\, the Royal Windsor Horse Show stands alone in its grandeur. Prepare to be captivated by a breathtaking display of unparalleled prestige over the course of these five days. Featuring over 130 showcasing classes\, this event epitomises the essence of equestrian sophistication. \nFor those who are interested we’ll also be running a prize draw for one lucky equestrian to win a Bed-Down Branded Saddle Pad and a Handy Bale Pack! What’s not to like?
URL:https://www.bed-down.co.uk/event/royal-windsor-horse-show-1st-5th-may/
LOCATION:Royal Windsor Horse Show\, King Edward VII Car Park\, Home Park\, Windsor\, Berkshire\, SL4 1QE\, United Kingdom
CATEGORIES:Equestrian Events
ATTACH;FMTTYPE=image/jpeg:https://www.bed-down.co.uk/wp-content/uploads/2024/04/Bed-Down-Equestrian-Competition.jpg
END:VEVENT
BEGIN:VEVENT
DTSTART;TZID=Europe/London:20240308T080000
DTEND;TZID=Europe/London:20240310T170000
DTSTAMP:20260424T142547
CREATED:20240307T082619Z
LAST-MODIFIED:20240307T082840Z
UID:5930-1709884800-1710090000@www.bed-down.co.uk
SUMMARY:National Shire Horse Show 8th-10th March 2024
DESCRIPTION:The annual National Shire Horse Show\, organised by the Shire Horse Society\, is set to commence this month\, showcasing the finest Shire horses. Breeders from diverse regions will gather alongside enthusiasts to honor this magnificent breed. \nBed-Down Horse Bedding eagerly anticipates sponsoring and participating in the 2024 edition of the National Shire Horse Show\, slated to occur at the Staffordshire Country Ground from March 8th to 10th. \nThe National Shire Horse Show is anticipated to be weekend brimming with family-friendly entertainment\, the event is poised to attract visitors from across the globe. \nBefore you attend the show\, why not visit the Shire Horse Society’s website at www.shire-horse.org.uk\, where you’ll find information about what they do and how you can get involved. \n 
URL:https://www.bed-down.co.uk/event/national-shire-horse-show-8th-10th-march-2024/
LOCATION:Staffordshire County Showground\, Weston Road\, Stafford\, Staffordshire\, ST18 0BD\, United Kingdom
CATEGORIES:Equestrian Events
ATTACH;FMTTYPE=image/jpeg:https://www.bed-down.co.uk/wp-content/uploads/2024/03/National-Shire-Horse-Show-8th-10th-March-2024.jpg
END:VEVENT
BEGIN:VEVENT
DTSTART;VALUE=DATE:20230827
DTEND;VALUE=DATE:20230828
DTSTAMP:20260424T142547
CREATED:20230818T072131Z
LAST-MODIFIED:20230818T072131Z
UID:5518-1693094400-1693180799@www.bed-down.co.uk
SUMMARY:Gosling Cup 27th August
DESCRIPTION:Bed-Down Equestrian Bedding love to support the Gosling Cup as one of our local events held at Stratford Hills in Colchester. Bed-Down believe The Pony Club plays an essential role in promoting equestrian activities and providing a supportive environment for young riders. As a Brand we are passionate about inspiring young equestrians and feel that this historic event is instrumental in bringing The Pony Club Community together. \nThe Gosling Cup 2023 is not for the faint hearted\, it is a long day of competition that involves tack and turnout\, Dressage\, Team ride\, showjumping and cross country. You will see two cross country fences this year decorated with Bed-Down bales! \nThe Gosling Cup is also a fantastic day to come along and spectate\, there will be 25 teams of 4 members from Essex\, Suffolk\, Hertfordshire and Cambridgeshire all battling out for a spot on the podium. There is normally food and drink available onsite but if a burger is not what you fancy then head out on course and watch the riders come splashing through the water on the cross country course. \nBed-Down look forward to hearing how all the amazing young riders get on at Stratford Hills on the 27th August 2023.
URL:https://www.bed-down.co.uk/event/gosling-cup-27th-august/
LOCATION:Gosling Cup\, Stratford Hills Farm\, Stratford Hills Farm\, Stratford St Mary\, Colchester\, Essex\, CO76PA\, United Kingdom
CATEGORIES:The Pony Club
ATTACH;FMTTYPE=image/jpeg:https://www.bed-down.co.uk/wp-content/uploads/2023/08/Gosling-Cup-27th-August.jpg
ORGANIZER;CN="The Pony Club":MAILTO:enquiries@pcuk.org
END:VEVENT
BEGIN:VEVENT
DTSTART;VALUE=DATE:20230821
DTEND;VALUE=DATE:20230827
DTSTAMP:20260424T142547
CREATED:20230816T115727Z
LAST-MODIFIED:20230816T115819Z
UID:5501-1692576000-1693094399@www.bed-down.co.uk
SUMMARY:Sheepgate U25 Dressage Championships - 21st - 26th August 2023
DESCRIPTION:Bed-Down Equine Bedding are excited to be back this year at Sheepgate Equestrian Centre U25 Dressage Championships in Boston\, Lincolnshire from 21st – 26th August 2023. The U25 dressage championships is a 6-day dressage competition\, covering all levels of dressage including FEI classes for the under 25-year-olds.  \nThere is something for everyone to enter from team competitions to individual and affiliated British Dressage classes. There are plenty of facilities onsite including hook-up and stables with Bed-Down Excel to ensure your horses have a comfortable rest during your stay. There are 3 competition arenas Saracen’s Horse Feed Arena 1\, Bed-Down Arena 2 and the third in a separate area adjacent to the Bed-Down Arena. You also have 2 amazing arenas to warm your horses up ready for competition\, from the outdoor arena to the indoor arena. \nSheepgate also has its very own dedicated retail therapy\, including a café where you can sit with friends and enjoy a coffee whilst shopping ’til your heart’s content in Tack and Togs. They stock equestrian clothing and horse supplies so if you have forgotten something for competition\, we are sure you can find everything you need here. Including Lemieux\, Pikeur and Kask. They also have an amazing sale section too! \nThe dedicated team at Sheepgate know how important your horses are to feel safe and secure when you stay away at shows at night. The stables are spacious with different stable types\, amazing Bed-Down Bedding and tasty Haylage supplied by Baillie. \nCome join us trot down the centre line at Sheepgate Equestrian Centre on the 21st-26th of August.
URL:https://www.bed-down.co.uk/event/sheepgate-equestrian-centre-u25-dressage-championships-21st-26th-august-2023/
LOCATION:Sheepgate Equestrian\, Sheepgate\, Leverton\, Boston\, Lincolnshire\, PE22 0AS\, United Kingdom
CATEGORIES:Dressage
ATTACH;FMTTYPE=image/jpeg:https://www.bed-down.co.uk/wp-content/uploads/2023/08/Dressage.jpg
ORGANIZER;CN="Sheepgate Equestrian":MAILTO:events@sheepgate.co.uk
END:VEVENT
END:VCALENDAR